BEGIN:VCALENDAR
VERSION:2.0
PRODID:-//区块周刊BlockWeeks - ECPv6.15.20//NONSGML v1.0//EN
CALSCALE:GREGORIAN
METHOD:PUBLISH
X-WR-CALNAME:区块周刊BlockWeeks
X-ORIGINAL-URL:https://blockweeks.com
X-WR-CALDESC:区块周刊BlockWeeks的活动
REFRESH-INTERVAL;VALUE=DURATION:PT1H
X-Robots-Tag:noindex
X-PUBLISHED-TTL:PT1H
BEGIN:VTIMEZONE
TZID:Asia/Shanghai
BEGIN:STANDARD
TZOFFSETFROM:+0800
TZOFFSETTO:+0800
TZNAME:CST
DTSTART:20250101T000000
END:STANDARD
END:VTIMEZONE
BEGIN:VEVENT
DTSTART;TZID=Asia/Shanghai:20260420T080000
DTEND;TZID=Asia/Shanghai:20260423T170000
DTSTAMP:20260423T064220
CREATED:20251203T041736Z
LAST-MODIFIED:20251203T042350Z
UID:190580-1776672000-1776963600@blockweeks.com
SUMMARY:2026香港Web3嘉年华Hong Kong Web3 Festival 2026
DESCRIPTION:亚洲领先的 Web3盛会 Hong Kong Web3 Festival 2026（2026 香港 Web3 嘉年华） 已确定于 2026 年 4 月 20 日至 23 日 在 香港会议展览中心（HKCEC） 举办。该活动由万向区块链实验室与HashKey Group联合推出，W3ME承办，自2023年起已成功举办三届，是亚洲规模最大、最受关注的Web3行业盛会之一。 \n过去三届嘉年华取得了令人瞩目的成绩：累计吸引了超过10万名现场观众，汇聚了超过350个前沿参展项目，并邀请了超过1200位业界领袖进行深度分享与交流。历届活动的演讲嘉宾阵容堪称顶级，包括香港特别行政区政府财政司司长陈茂波、以太坊联合创始人Vitalik Buterin以及ARK Invest首席执行官Cathie Wood等全球重量级人物。 \n活动亮点 — 技术、商业与生态的交汇\n\n大型主题演讲与专题论坛：大会将邀请行业领袖、项目创始人与投资人，就去中心化金融、Layer-2 与跨链基础设施、NFT/元宇宙、Web3 与 AI 的结合、监管与合规等主题展开演讲与对话。\n展区与项目展示：预期有 150+ 优质 Web3 项目 与生态方参展，展示产品原型、基础设施与企业级解决方案，便于项目与潜在合作方、用户直接对接。\n多维社交与边会：大会同期安排多场 Side-Events、工作坊与私密圆桌，为寻求合作、融资或技术落地的团队提供一对一洽谈与闭门交流机会。\n\n为什么值得关注\n\n若你是寻求亚洲市场 / 合作渠道的 Web3 项目或服务提供者，HK Web3 Festival 提供直接接触本地与国际生态的窗口；\n对投资人而言，现场集中展示与密集议程便于快速筛选项目并进行高效尽调；\n对研究者与媒体而言，这是捕捉区域政策动向、企业案例与技术趋势的前沿场域。\n\n如何参与及购票福利\n \n作为本次活动的官方媒体合作伙伴，BlockWeeks特为读者争取了专属购票福利。 您可以通过以下专属链接，使用折扣码 “BLOCKWEEKS” 购买门票，享受特别优惠： \n\n折扣码：BLOCKWEEKS\n折扣链接（直接套用优惠券）：https://luma.com/hkweb3festival_2026?coupon=BLOCKWEEKS （点击后按页面指示完成购票并确认折扣生效）\n\n我们期待与您一起，在2026年春天的香港，共同见证并参与塑造Web3的未来。
URL:https://blockweeks.com/event/hong-kong-web3-festival-2026
LOCATION:香港会议展览中心\, 香港会议展览中心\, 香港\, China
CATEGORIES:国内活动,线下活动
ATTACH;FMTTYPE=image/jpeg:https://blockweeks.com/wp-content/uploads/2025/12/photo_2025-12-01_13-53-56-1.jpg
END:VEVENT
BEGIN:VEVENT
DTSTART;TZID=Asia/Shanghai:20260501T080000
DTEND;TZID=Asia/Shanghai:20260502T170000
DTSTAMP:20260423T064220
CREATED:20251212T085431Z
LAST-MODIFIED:20251212T090014Z
UID:192948-1777622400-1777741200@blockweeks.com
SUMMARY:Unchained Summit 2026
DESCRIPTION:Unchained Summit 是在全球 Web3 与数字资产领域快速崛起的专业峰会品牌，强调“高质量人脉 + 投融资对接 + 前沿趋势分析”。大会吸引来自区块链基础设施、DeFi、RWA（真实世界资产）、代币化、AI+Web3、新兴公链、机构投资与合规领域的核心行业参与者，是 Web3 生态中投资人与开发者深度交汇的重要舞台。 \n \n举办时间： 2026 年 5 月 1–2 日举办地点：迪拜棕榈岛W酒店（Dubai\, UAE）主办方： Aeternum 等机构定位： 高影响力 Web3 投资与创新峰会，聚焦 Builder、投资机构与企业级 Web3 采用者的深度交流与交易流动（deal-flow）。 \n2025 年盛况回顾\n2025 年大会在迪拜成功举办，两日活动吸引了超过一千名业内参与者，包括数百名投资者、创业团队、项目方及多家国际媒体。主要亮点包括： \n\n多场主题演讲与高规格圆桌，聚焦 RWA、机构化采用、链上金融、AI 叠加、合规与全球监管趋势。\n吸引大量初创与成熟项目参与的路演（pitch）与投融资对接环节。\n全场 networking 活动密度高、效率强，被外界评价为“更适合真正建立商务合作与投融资链接的 Web3 峰会”。\n现场氛围专业、国际化明显，同时强化迪拜作为全球 Web3 中枢的战略位置。\n\n2026 年活动亮点与期待\n继 2025 年的成功之后，Unchained Summit 将于 2026 年 5 月 1–2 日 再次回归迪拜，带来更具针对性的业务与投资对接体验。预计内容包括： \n\n行业领袖主旨演讲\n资本机构圆桌与市场趋势研讨\nWeb3 创新路演竞赛（Pitch Competition）\n投资人与创业者一对一对接\n项目展示区（Expo / Booth Showcase）\n高强度 Networking 与闭门交流大会将继续保持“小而精”的结构，以高质量的行业输出与真正可落地的合作机会为核心价值主张。\n\n适合参加的人群\n\nWeb3 创业者、早期项目团队\n投资机构、加密基金、家族办公室\n公链生态团队、基础设施开发者\n金融机构、希望探索代币化与链上应用的企业\n法律、合规、审计、数据服务等 Web3 配套服务方\n想深度进入中东 Web3 圈的企业或个人\n\n官方资源\n\n官方网站：https://unchainedsummit.com/\n购票页面：https://unchainedsummit.com/dubai/buy-tickets/\n演讲者申请：delegates@aeternuminc.com\n赞助 / 展位申请：sponsorships@aeternuminc.com\n官方社交媒体：https://x.com/UnchainedSummit
URL:https://blockweeks.com/event/unchained-summit-2026
LOCATION:迪拜棕榈岛W酒店\, West Crescent\, Palm Jumeirah\, Dubai\, Dubai\, United Arab Emirates
CATEGORIES:国外活动,线下活动
ATTACH;FMTTYPE=image/jpeg:https://blockweeks.com/wp-content/uploads/2025/12/GpUPKjxXAAAJblG-e1765529779830.jpg
ORGANIZER;CN="Aeternum":MAILTO:info@aeternuminc.com
END:VEVENT
BEGIN:VEVENT
DTSTART;TZID=Asia/Shanghai:20260629T080000
DTEND;TZID=Asia/Shanghai:20260630T170000
DTSTAMP:20260423T064220
CREATED:20260401T063632Z
LAST-MODIFIED:20260401T074720Z
UID:220048-1782720000-1782838800@blockweeks.com
SUMMARY:全球人工智能展 利雅得 2026：Global AI Show Riyadh 2026
DESCRIPTION:全球人工智能展（Global AI Show Riyadh 2026）将于2026年6月29日至30日在沙特阿拉伯利雅得盛大举行。本次盛会由VAP Group主办，Times of AI提供支持，旨在将利雅得打造为全球人工智能领域的核心目的地。大会将汇聚全球顶尖的AI领袖、技术创新者、政策制定者及行业先驱，共同探讨从机器学习、通用人工智能（AGI）到负责任AI部署等前沿议题，并深入剖析AI在医疗、金融、教育及物流等关键领域的实际应用与变革潜力。 \n \n活动亮点 \n\n\n全行业覆盖的AI议程：围绕AI的伦理治理、技术创新与商业应用，设立数十场主题演讲、专题讨论与深度圆桌会议，分享来自全球的AI突破与最佳实践。 \n\n\n跨领域应用案例展示：聚焦AI在医疗诊断、金融决策、智能治理等方面的真实成功案例，呈现从概念到落地的完整路径。 \n\n\n沙特AI发展全景解读：深入探讨沙特阿拉伯从愿景到现实的AI革命，展现该国在智能技术领域的国家战略与发展历程。 \n\n\n前沿技术深度研讨：除传统AI应用外，还将专题讨论AGI与智能协作、AI驱动的新一代技术架构等未来趋势。 \n\n\n高端交流与生态对接：为企业家、开发者、投资者与政策制定者提供开放的交流平台，促进跨领域合作与生态共建。 \n\n\n参会与购票信息欢迎通过官方渠道注册参会。您可选择不同类别的门票，以参与为期两天的完整议程、展览与交流环节。 \n\n\n购票链接：https://www.globalaishow.com/riyadh/tickets/
URL:https://blockweeks.com/event/global-ai-show-riyadh-2026
CATEGORIES:国外活动
ATTACH;FMTTYPE=image/png:https://blockweeks.com/wp-content/uploads/2026/04/GAIS-Website-banner-1200X630-e1775029634452.png
END:VEVENT
BEGIN:VEVENT
DTSTART;TZID=Asia/Shanghai:20260629T080000
DTEND;TZID=Asia/Shanghai:20260630T170000
DTSTAMP:20260423T064220
CREATED:20260401T063931Z
LAST-MODIFIED:20260401T074608Z
UID:220060-1782720000-1782838800@blockweeks.com
SUMMARY:全球游戏展 利雅得 2026：Global Games Show Riyadh 2026
DESCRIPTION:全球游戏展（Global Games Show Riyadh 2026）将于2026年6月29日至30日在沙特阿拉伯利雅得举行。作为连接游戏开发者、发行商、电竞选手、投资者与玩家的360度全景式平台，本届展会将全面展示互动娱乐产业的最新趋势。从AR/VR沉浸式体验、AI辅助游戏设计，到下一代游戏引擎与电子竞技生态，大会旨在促进沙特作为全球数字娱乐新中心的崛起，并推动游戏产业在技术、商业与社区层面的深度融合。 \n \n活动亮点 \n\n\n未来游戏技术探索：深入探讨游戏技术的下一个前沿，包括脑机接口、AI辅助游戏设计、以及下一代游戏引擎的突破性应用。 \n\n\n电竞与沙特新机遇：重点关注沙特阿拉伯在全球电子竞技领域的崛起之路，剖析其成为电竞强国的战略布局与市场潜力。 \n\n\n“游戏经济学”专场：从众筹模式、移动游戏发展到投资者与开发者合作，全面解析游戏产业的商业模式与盈利路径。 \n\n\n沉浸式体验与技术演示：现场设有AR/VR互动体验区，直观感受最新游戏产品、技术和沉浸式交互的创新成果。 \n\n\n全产业链交流与对接：为游戏开发者、发行商与投资者创造专门匹配与交流机会，帮助初创团队展示创新项目，促进合作达成。 \n\n\n参会与购票信息一张门票即可通览全球游戏展、全球人工智能展及全球区块链展三大盛会。 \n\n\n购票链接：https://www.globalgamesshow.com/riyadh/tickets/
URL:https://blockweeks.com/event/global-games-show-riyadh-2026
LOCATION:利雅得\, Malfa Hall\, Riyadh\, Saudi Arabia
ATTACH;FMTTYPE=image/png:https://blockweeks.com/wp-content/uploads/2025/12/GGS-Website-Banner-1200X630-e1775029558561.png
END:VEVENT
BEGIN:VEVENT
DTSTART;TZID=Asia/Shanghai:20260629T080000
DTEND;TZID=Asia/Shanghai:20260630T170000
DTSTAMP:20260423T064220
CREATED:20260401T064121Z
LAST-MODIFIED:20260401T074102Z
UID:220062-1782720000-1782838800@blockweeks.com
SUMMARY:全球区块链展 利雅得 2026：Global Blockchain Show Riyadh 2026
DESCRIPTION:全球区块链展（Global Blockchain Show Riyadh 2026）将于2026年6月29日至30日在沙特阿拉伯利雅得举行。继阿布扎比站成功举办后，本次盛会重返利雅得，致力于将其打造为“区块链的麦加”。大会由VAP Group主办，Times of Blockchain提供支持，预计将吸引超过10\,000名与会者、100余位演讲嘉宾及BlockWeeks在内的200多家媒体代表，共同探讨区块链、Web3及数字资产的未来，展示去中心化技术在金融、商业与治理中的变革力量。 \n \n活动亮点 \n\n全球领袖与创新者汇聚：汇集国际顶尖的区块链项目创始人、政策制定者、投资人与技术专家，分享关于Web3生态、数字资产监管与技术创新的深度见解。\n全面的技术与应用议程：围绕区块链的可扩展性、安全性、行业应用等核心议题，举办数十场专题演讲与小组讨论，剖析从基础设施到上层应用的完整生态。\n前沿技术交叉探索：专题探讨区块链与人工智能、量子计算、元宇宙等领域的交汇与融合，展望下一代数字转型的新形态。\n生态系统发展与合作：聚焦全球Web3生态的共建，推动基础设施完善与可持续创新，为开发者与项目方提供广阔的协作平台。\n高端商务与关系建立：为企业家、立法者、投资者和技术领袖创造深度的交流机会，促进真正有意义的合作关系，共同塑造未来的数字经济格局。\n\n参会与购票信息把握与全球区块链精英面对面交流的绝佳机会。 \n\n购票链接：https://www.globalblockchainshow.com/riyadh/tickets/
URL:https://blockweeks.com/event/global-blockchain-show-riyadh-2026
LOCATION:利雅得\, Malfa Hall\, Riyadh\, Saudi Arabia
CATEGORIES:国外活动
ATTACH;FMTTYPE=image/png:https://blockweeks.com/wp-content/uploads/2025/12/GBS-Website-Banner-1200X630-e1775029249497.png
END:VEVENT
END:VCALENDAR